{
 "currentVersion": 10.91,
 "serviceDescription": "Preservation/Ecoval_TzabarKama_0623",
 "name": "Preservation/Ecoval_TzabarKama_0623",
 "description": "",
 "extent": {
  "xmin": 179308.0732,
  "ymin": 623785.8542,
  "xmax": 189446.0732,
  "ymax": 634056.8542,
  "spatialReference": {
   "wkid": 2039,
   "latestWkid": 2039
  }
 },
 "initialExtent": {
  "xmin": 179308.0732,
  "ymin": 623785.8542,
  "xmax": 189446.0732,
  "ymax": 634056.8542,
  "spatialReference": {
   "wkid": 2039,
   "latestWkid": 2039
  }
 },
 "fullExtent": {
  "xmin": 179308.0732,
  "ymin": 623785.8542,
  "xmax": 189446.0732,
  "ymax": 634056.8542,
  "spatialReference": {
   "wkid": 2039,
   "latestWkid": 2039
  }
 },
 "hasMultidimensions": false,
 "pixelSizeX": 1,
 "pixelSizeY": 1,
 "datasetFormat": "TIFF",
 "uncompressedSize": 416509592,
 "blockWidth": 128,
 "blockHeight": 128,
 "compressionType": "LZW",
 "bandNames": [
  "Band_1"
 ],
 "allowCopy": true,
 "allowAnalysis": true,
 "bandCount": 1,
 "noDataValue": 2147483647,
 "noDataValues": [
  2147483647
 ],
 "pixelType": "U32",
 "minPixelSize": 0,
 "maxPixelSize": 0,
 "copyrightText": "",
 "serviceDataType": "esriImageServiceDataTypeThematic",
 "serviceSourceType": "esriImageServiceSourceTypeDataset",
 "minValues": [
  3
 ],
 "maxValues": [
  22
 ],
 "meanValues": [
  12.41539026069
 ],
 "stdvValues": [
  2.6479650377993
 ],
 "objectIdField": "",
 "fields": [],
 "capabilities": "Image,Metadata,Mensuration",
 "defaultMosaicMethod": "Center",
 "allowedMosaicMethods": "",
 "sortField": "",
 "sortValue": null,
 "sortAscending": true,
 "mosaicOperator": "First",
 "defaultCompressionQuality": 75,
 "defaultResamplingMethod": "Bilinear",
 "maxImageHeight": 4100,
 "maxImageWidth": 15000,
 "allowRasterFunction": true,
 "rasterFunctionInfos": [
  {
   "name": "None",
   "description": "",
   "help": ""
  }
 ],
 "rasterTypeInfos": [
  {
   "name": "Raster Dataset",
   "description": "Supports all ArcGIS Raster Datasets",
   "help": ""
  }
 ],
 "mensurationCapabilities": "Basic",
 "hasHistograms": true,
 "hasColormap": false,
 "hasRasterAttributeTable": true,
 "minScale": 0,
 "maxScale": 0,
 "exportTilesAllowed": false,
 "supportsStatistics": false,
 "supportsAdvancedQueries": false,
 "editFieldsInfo": null,
 "ownershipBasedAccessControlForRasters": null,
 "allowComputeTiePoints": false,
 "useStandardizedQueries": true,
 "advancedQueryCapabilities": {
  "useStandardizedQueries": true,
  "supportsStatistics": false,
  "supportsOrderBy": false,
  "supportsDistinct": false,
  "supportsPagination": false
 },
 "spatialReference": {
  "wkid": 2039,
  "latestWkid": 2039
 }
}
