{
 "currentVersion": 10.91,
 "serviceDescription": "Preservation/Slops_TzabaKama_0623",
 "name": "Preservation/Slops_TzabaKama_0623",
 "description": "",
 "extent": {
  "xmin": 179305.43690108135,
  "ymin": 623784.7938475087,
  "xmax": 189445.43690108135,
  "ymax": 634059.7938475087,
  "spatialReference": {
   "wkid": 2039,
   "latestWkid": 2039
  }
 },
 "initialExtent": {
  "xmin": 179305.43690108135,
  "ymin": 623784.7938475087,
  "xmax": 189445.43690108135,
  "ymax": 634059.7938475087,
  "spatialReference": {
   "wkid": 2039,
   "latestWkid": 2039
  }
 },
 "fullExtent": {
  "xmin": 179305.43690108135,
  "ymin": 623784.7938475087,
  "xmax": 189445.43690108135,
  "ymax": 634059.7938475087,
  "spatialReference": {
   "wkid": 2039,
   "latestWkid": 2039
  }
 },
 "hasMultidimensions": false,
 "pixelSizeX": 5,
 "pixelSizeY": 5,
 "datasetFormat": "TIFF",
 "uncompressedSize": 16670160,
 "blockWidth": 128,
 "blockHeight": 128,
 "compressionType": "LZW",
 "bandNames": [
  "Band_1"
 ],
 "allowCopy": true,
 "allowAnalysis": true,
 "bandCount": 1,
 "noDataValue": -3.4028230607370965E38,
 "noDataValues": [
  -3.4028230607370965E38
 ],
 "pixelType": "F32",
 "minPixelSize": 0,
 "maxPixelSize": 0,
 "copyrightText": "",
 "serviceDataType": "esriImageServiceDataTypeGeneric",
 "serviceSourceType": "esriImageServiceSourceTypeDataset",
 "minValues": [
  0
 ],
 "maxValues": [
  89.56103515625
 ],
 "meanValues": [
  12.830656745827
 ],
 "stdvValues": [
  14.416842766233
 ],
 "objectIdField": "",
 "fields": [],
 "capabilities": "Image,Metadata,Mensuration",
 "defaultMosaicMethod": "Center",
 "allowedMosaicMethods": "",
 "sortField": "",
 "sortValue": null,
 "sortAscending": true,
 "mosaicOperator": "First",
 "defaultCompressionQuality": 75,
 "defaultResamplingMethod": "Bilinear",
 "maxImageHeight": 4100,
 "maxImageWidth": 15000,
 "allowRasterFunction": true,
 "rasterFunctionInfos": [
  {
   "name": "None",
   "description": "",
   "help": ""
  }
 ],
 "rasterTypeInfos": [
  {
   "name": "Raster Dataset",
   "description": "Supports all ArcGIS Raster Datasets",
   "help": ""
  }
 ],
 "mensurationCapabilities": "Basic",
 "hasHistograms": true,
 "hasColormap": false,
 "hasRasterAttributeTable": false,
 "minScale": 0,
 "maxScale": 0,
 "exportTilesAllowed": false,
 "supportsStatistics": false,
 "supportsAdvancedQueries": false,
 "editFieldsInfo": null,
 "ownershipBasedAccessControlForRasters": null,
 "allowComputeTiePoints": false,
 "useStandardizedQueries": true,
 "advancedQueryCapabilities": {
  "useStandardizedQueries": true,
  "supportsStatistics": false,
  "supportsOrderBy": false,
  "supportsDistinct": false,
  "supportsPagination": false
 },
 "spatialReference": {
  "wkid": 2039,
  "latestWkid": 2039
 }
}
