View In:
ArcGIS JavaScript
ArcGIS Online Map Viewer
ArcGIS Earth
ArcMap
View Footprint In:
ArcGIS Online Map Viewer
Service Description: Preservation/Slops_TzabaKama_0623
Name: Preservation/Slops_TzabaKama_0623
Description:
Single Fused Map Cache: false
Extent:
XMin: 179305.43690108135
YMin: 623784.7938475087
XMax: 189445.43690108135
YMax: 634059.7938475087
Spatial Reference: 2039
(2039)
Initial Extent:
XMin: 179305.43690108135
YMin: 623784.7938475087
XMax: 189445.43690108135
YMax: 634059.7938475087
Spatial Reference: 2039
(2039)
Full Extent:
XMin: 179305.43690108135
YMin: 623784.7938475087
XMax: 189445.43690108135
YMax: 634059.7938475087
Spatial Reference: 2039
(2039)
Pixel Size X: 5.0
Pixel Size Y: 5.0
Band Count: 1
Pixel Type: F32
RasterFunction Infos: {"rasterFunctionInfos": [{
"name": "None",
"description": "",
"help": ""
}]}
Mensuration Capabilities: Basic
Has Histograms: true
Has Colormap: false
Has Multi Dimensions : false
Rendering Rule:
Min Scale: 0
Max Scale: 0
Copyright Text:
Service Data Type: esriImageServiceDataTypeGeneric
Min Values: 0
Max Values: 89.56103515625
Mean Values: 12.830656745827
Standard Deviation Values: 14.416842766233
Object ID Field:
Fields:
None
Default Mosaic Method: Center
Allowed Mosaic Methods:
SortField:
SortValue: null
Mosaic Operator: First
Default Compression Quality: 75
Default Resampling Method: Bilinear
Max Record Count: null
Max Image Height: 4100
Max Image Width: 15000
Max Download Image Count: null
Max Mosaic Image Count: null
Allow Raster Function: true
Allow Copy: true
Allow Analysis: true
Allow Compute TiePoints: false
Supports Statistics: false
Supports Advanced Queries: false
Use StandardizedQueries: true
Raster Type Infos:
Name: Raster Dataset
Description: Supports all ArcGIS Raster Datasets
Help:
Has Raster Attribute Table: false
Edit Fields Info: null
Ownership Based AccessControl For Rasters: null
Child Resources:
Info
Histograms
Statistics
Key Properties
Legend
Raster Function Infos
Supported Operations:
Export Image
Identify
Measure
Compute Histograms
Compute Statistics Histograms
Get Samples
Compute Class Statistics
Query Boundary
Compute Pixel Location
Compute Angles
Validate
Project